Workbook

Sheet Итоговый прогноз
B1: КЛИЕНТ: | C1: все клиенты БАО
B3: М= | C3: месяц прогноза
A5: Бренд | B5: SKU | D5: РРЦ | E5: Статус | F5: ПРОДАЖИ | S5: ПРОГНОЗ
F6: М-12 | G6: М-11 | H6: М-10 | I6: М-9 | J6: М-8 | K6: М-7 | L6: М-6 | M6: М-5 | N6: М-4 | O6: М-3 | P6: М-2 | Q6: М-1 | R6: М | S6: М+1 | T6: М+2 | U6: М+3 | V6: М+4 | W6: М+5 | X6: М+6
B7: 123 | C7: Name | S7: ='КА 1'!S7+'Non-KA 1'!S7+'Own Retail'!S7 -> 0 | T7: ='КА 1'!T7+'Non-KA 1'!T7+'Own Retail'!T7 -> 0 | U7: ='КА 1'!U7+'Non-KA 1'!U7+'Own Retail'!U7 -> 0 | V7: ='КА 1'!V7+'Non-KA 1'!V7+'Own Retail'!V7 -> 0 | W7: ='КА 1'!W7+'Non-KA 1'!W7+'Own Retail'!W7 -> 0 | X7: ='КА 1'!X7+'Non-KA 1'!X7+'Own Retail'!X7 -> 0
B8: 124 | C8: Name | S8: ='КА 1'!S8+'Non-KA 1'!S8+'Own Retail'!S8 -> 0 | T8: ='КА 1'!T8+'Non-KA 1'!T8+'Own Retail'!T8 -> 0 | U8: ='КА 1'!U8+'Non-KA 1'!U8+'Own Retail'!U8 -> 0 | V8: ='КА 1'!V8+'Non-KA 1'!V8+'Own Retail'!V8 -> 0 | W8: ='КА 1'!W8+'Non-KA 1'!W8+'Own Retail'!W8 -> 0 | X8: ='КА 1'!X8+'Non-KA 1'!X8+'Own Retail'!X8 -> 0
B9: 125 | C9: Name | S9: ='КА 1'!S9+'Non-KA 1'!S9+'Own Retail'!S9 -> 0 | T9: ='КА 1'!T9+'Non-KA 1'!T9+'Own Retail'!T9 -> 0 | U9: ='КА 1'!U9+'Non-KA 1'!U9+'Own Retail'!U9 -> 0 | V9: ='КА 1'!V9+'Non-KA 1'!V9+'Own Retail'!V9 -> 0 | W9: ='КА 1'!W9+'Non-KA 1'!W9+'Own Retail'!W9 -> 0 | X9: ='КА 1'!X9+'Non-KA 1'!X9+'Own Retail'!X9 -> 0
B10: 126 | C10: Name | S10: ='КА 1'!S10+'Non-KA 1'!S10+'Own Retail'!S10 -> 0 | T10: ='КА 1'!T10+'Non-KA 1'!T10+'Own Retail'!T10 -> 0 | U10: ='КА 1'!U10+'Non-KA 1'!U10+'Own Retail'!U10 -> 0 | V10: ='КА 1'!V10+'Non-KA 1'!V10+'Own Retail'!V10 -> 0 | W10: ='КА 1'!W10+'Non-KA 1'!W10+'Own Retail'!W10 -> 0 | X10: ='КА 1'!X10+'Non-KA 1'!X10+'Own Retail'!X10 -> 0
B11: 127 | C11: Name | S11: ='КА 1'!S11+'Non-KA 1'!S11+'Own Retail'!S11 -> 0 | T11: ='КА 1'!T11+'Non-KA 1'!T11+'Own Retail'!T11 -> 0 | U11: ='КА 1'!U11+'Non-KA 1'!U11+'Own Retail'!U11 -> 0 | V11: ='КА 1'!V11+'Non-KA 1'!V11+'Own Retail'!V11 -> 0 | W11: ='КА 1'!W11+'Non-KA 1'!W11+'Own Retail'!W11 -> 0 | X11: ='КА 1'!X11+'Non-KA 1'!X11+'Own Retail'!X11 -> 0
B12: 128 | C12: Name | S12: ='КА 1'!S12+'Non-KA 1'!S12+'Own Retail'!S12 -> 0 | T12: ='КА 1'!T12+'Non-KA 1'!T12+'Own Retail'!T12 -> 0 | U12: ='КА 1'!U12+'Non-KA 1'!U12+'Own Retail'!U12 -> 0 | V12: ='КА 1'!V12+'Non-KA 1'!V12+'Own Retail'!V12 -> 0 | W12: ='КА 1'!W12+'Non-KA 1'!W12+'Own Retail'!W12 -> 0 | X12: ='КА 1'!X12+'Non-KA 1'!X12+'Own Retail'!X12 -> 0
B13: 129 | C13: Name | S13: ='КА 1'!S13+'Non-KA 1'!S13+'Own Retail'!S13 -> 0 | T13: ='КА 1'!T13+'Non-KA 1'!T13+'Own Retail'!T13 -> 0 | U13: ='КА 1'!U13+'Non-KA 1'!U13+'Own Retail'!U13 -> 0 | V13: ='КА 1'!V13+'Non-KA 1'!V13+'Own Retail'!V13 -> 0 | W13: ='КА 1'!W13+'Non-KA 1'!W13+'Own Retail'!W13 -> 0 | X13: ='КА 1'!X13+'Non-KA 1'!X13+'Own Retail'!X13 -> 0
B14: 130 | C14: Name | S14: ='КА 1'!S14+'Non-KA 1'!S14+'Own Retail'!S14 -> 0 | T14: ='КА 1'!T14+'Non-KA 1'!T14+'Own Retail'!T14 -> 0 | U14: ='КА 1'!U14+'Non-KA 1'!U14+'Own Retail'!U14 -> 0 | V14: ='КА 1'!V14+'Non-KA 1'!V14+'Own Retail'!V14 -> 0 | W14: ='КА 1'!W14+'Non-KA 1'!W14+'Own Retail'!W14 -> 0 | X14: ='КА 1'!X14+'Non-KA 1'!X14+'Own Retail'!X14 -> 0
B15: 131 | C15: Name | S15: ='КА 1'!S15+'Non-KA 1'!S15+'Own Retail'!S15 -> 0 | T15: ='КА 1'!T15+'Non-KA 1'!T15+'Own Retail'!T15 -> 0 | U15: ='КА 1'!U15+'Non-KA 1'!U15+'Own Retail'!U15 -> 0 | V15: ='КА 1'!V15+'Non-KA 1'!V15+'Own Retail'!V15 -> 0 | W15: ='КА 1'!W15+'Non-KA 1'!W15+'Own Retail'!W15 -> 0 | X15: ='КА 1'!X15+'Non-KA 1'!X15+'Own Retail'!X15 -> 0

Sheet КА 1
B1: КЛИЕНТ: | C1: Х
B2: МЕНЕДЖЕР: | C2: ФИО
B3: М= | C3: месяц прогноза
A5: Бренд | B5: SKU | D5: РРЦ | E5: Статус | F5: ПРОДАЖИ | S5: ПРОГНОЗ
F6: М-12 | G6: М-11 | H6: М-10 | I6: М-9 | J6: М-8 | K6: М-7 | L6: М-6 | M6: М-5 | N6: М-4 | O6: М-3 | P6: М-2 | Q6: М-1 | R6: М | S6: М+1 | T6: М+2 | U6: М+3 | V6: М+4 | W6: М+5 | X6: М+6
B7: 123 | C7: Name
B8: 124 | C8: Name
B9: 125 | C9: Name
B10: 126 | C10: Name
B11: 127 | C11: Name
B12: 128 | C12: Name
B13: 129 | C13: Name
B14: 130 | C14: Name
B15: 131 | C15: Name

Sheet Non-KA 1
B1: КЛИЕНТ: | C1: группа клиентов менеджера за вычетом КА
B2: МЕНЕДЖЕР: | C2: ФИО
B3: М= | C3: месяц прогноза
A5: Бренд | B5: SKU | D5: РРЦ | E5: Статус | F5: ПРОДАЖИ | S5: ПРОГНОЗ
F6: М-12 | G6: М-11 | H6: М-10 | I6: М-9 | J6: М-8 | K6: М-7 | L6: М-6 | M6: М-5 | N6: М-4 | O6: М-3 | P6: М-2 | Q6: М-1 | R6: М | S6: М+1 | T6: М+2 | U6: М+3 | V6: М+4 | W6: М+5 | X6: М+6
B7: 123 | C7: Name
B8: 124 | C8: Name
B9: 125 | C9: Name
B10: 126 | C10: Name
B11: 127 | C11: Name
B12: 128 | C12: Name
B13: 129 | C13: Name
B14: 130 | C14: Name
B15: 131 | C15: Name

Sheet Own Retail
B1: КЛИЕНТ: | C1: собственная розница
B2: МЕНЕДЖЕР: | C2: ФИО
B3: М= | C3: месяц прогноза
A5: Бренд | B5: SKU | D5: РРЦ | E5: Статус | F5: ПРОДАЖИ | S5: ПРОГНОЗ
F6: М-12 | G6: М-11 | H6: М-10 | I6: М-9 | J6: М-8 | K6: М-7 | L6: М-6 | M6: М-5 | N6: М-4 | O6: М-3 | P6: М-2 | Q6: М-1 | R6: М | S6: М+1 | T6: М+2 | U6: М+3 | V6: М+4 | W6: М+5 | X6: М+6
B7: 123 | C7: Name
B8: 124 | C8: Name
B9: 125 | C9: Name
B10: 126 | C10: Name
B11: 127 | C11: Name
B12: 128 | C12: Name
B13: 129 | C13: Name
B14: 130 | C14: Name
B15: 131 | C15: Name
